BEGIN:VCALENDAR
VERSION:2.0
CREATED:20260407T205020Z
PRODID:-//Meritage Homes Corporation/Equisolve Calendar v1.0//EN
METHOD:PUBLISH
BEGIN:VEVENT
UID:e68cb5570994671fc1f576071f91326b
DTSTAMP:20260424T120014Z
DTSTART:20260521T150000Z
DTEND:20260521T160000Z
SUMMARY:2026 Annual Meeting of Stockholders
DESCRIPTION:2026 Annual Meeting of Stockholders\n\nDate: May 21\, 2026 8:00 am PDT\n\nWebcast: https://apps.computershare.com/MeetingsShareholderWeb/Home?Code=MFX6MXG&Invitation=&Locale=en
END:VEVENT
END:VCALENDAR
